Package: ggspavis Version: 1.10.0 Command: rm -rf ggspavis.buildbin-libdir && mkdir ggspavis.buildbin-libdir && E:\biocbuild\bbs-3.19-bioc\R\bin\R.exe CMD INSTALL --build --library=ggspavis.buildbin-libdir ggspavis_1.10.0.tar.gz StartedAt: 2024-10-17 07:53:11 -0400 (Thu, 17 Oct 2024) EndedAt: 2024-10-17 07:53:43 -0400 (Thu, 17 Oct 2024) EllapsedTime: 32.7 seconds RetCode: 0 Status: OK PackageFile: ggspavis_1.10.0.zip PackageFileSize: 2.975 MiB