Package: ggspavis Version: 1.10.0 Command: rm -rf ggspavis.buildbin-libdir && mkdir ggspavis.buildbin-libdir && F:\biocbuild\bbs-3.19-bioc\R\bin\R.exe CMD INSTALL --build --library=ggspavis.buildbin-libdir ggspavis_1.10.0.tar.gz StartedAt: 2024-06-27 08:17:39 -0400 (Thu, 27 Jun 2024) EndedAt: 2024-06-27 08:18:25 -0400 (Thu, 27 Jun 2024) EllapsedTime: 46.7 seconds RetCode: 0 Status: OK PackageFile: ggspavis_1.10.0.zip PackageFileSize: 2.975 MiB