Package: ggspavis Version: 1.10.0 Command: /home/biocbuild/bbs-3.19-bioc/R/bin/R CMD check --install=check:ggspavis.install-out.txt --library=/home/biocbuild/bbs-3.19-bioc/R/site-library --timings ggspavis_1.10.0.tar.gz StartedAt: 2024-10-17 00:56:25 -0400 (Thu, 17 Oct 2024) EndedAt: 2024-10-17 01:01:30 -0400 (Thu, 17 Oct 2024) EllapsedTime: 305.6 seconds RetCode: 0 Status: OK CheckDir: ggspavis.Rcheck Warnings: 0