Package: ggspavis Version: 1.10.0 Command: /home/biocbuild/bbs-3.19-bioc/R/bin/R CMD build --keep-empty-dirs --no-resave-data ggspavis StartedAt: 2024-10-16 18:43:48 -0400 (Wed, 16 Oct 2024) EndedAt: 2024-10-16 18:45:24 -0400 (Wed, 16 Oct 2024) EllapsedTime: 96.2 seconds RetCode: 0 Status: OK PackageFile: ggspavis_1.10.0.tar.gz PackageFileSize: 5.925 MiB