Package: ggspavis Version: 1.10.0 Command: /Library/Frameworks/R.framework/Resources/bin/R CMD build --keep-empty-dirs --no-resave-data ggspavis StartedAt: 2024-10-16 19:36:40 -0400 (Wed, 16 Oct 2024) EndedAt: 2024-10-16 19:40:08 -0400 (Wed, 16 Oct 2024) EllapsedTime: 208.0 seconds RetCode: 0 Status: OK PackageFile: ggspavis_1.10.0.tar.gz PackageFileSize: 6.799 MiB