Package: ggspavis Version: 1.10.0 Command: rm -rf ggspavis.buildbin-libdir && mkdir ggspavis.buildbin-libdir && /Users/biocbuild/BBS/utils/build-universal.sh ggspavis_1.10.0.tar.gz /Library/Frameworks/R.framework/Resources/bin/R ggspavis.buildbin-libdir StartedAt: 2024-06-10 00:20:25 -0400 (Mon, 10 Jun 2024) EndedAt: 2024-06-10 00:21:03 -0400 (Mon, 10 Jun 2024) EllapsedTime: 37.4 seconds RetCode: 0 Status: OK PackageFile: ggspavis_1.10.0.tgz PackageFileSize: 6.856 MiB