Package: ggspavis Version: 1.10.0 Command: rm -rf ggspavis.buildbin-libdir && mkdir ggspavis.buildbin-libdir && /Users/biocbuild/BBS/utils/build-universal.sh ggspavis_1.10.0.tar.gz /Library/Frameworks/R.framework/Resources/bin/R ggspavis.buildbin-libdir StartedAt: 2024-06-11 11:26:46 -0400 (Tue, 11 Jun 2024) EndedAt: 2024-06-11 11:27:43 -0400 (Tue, 11 Jun 2024) EllapsedTime: 57.8 seconds RetCode: 0 Status: OK PackageFile: ggspavis_1.10.0.tgz PackageFileSize: 6.873 MiB