Package: ggmsa Version: 1.10.0 Command: rm -rf ggmsa.buildbin-libdir && mkdir ggmsa.buildbin-libdir && E:\biocbuild\bbs-3.19-bioc\R\bin\R.exe CMD INSTALL --build --library=ggmsa.buildbin-libdir ggmsa_1.10.0.tar.gz StartedAt: 2024-10-17 07:53:05 -0400 (Thu, 17 Oct 2024) EndedAt: 2024-10-17 07:53:46 -0400 (Thu, 17 Oct 2024) EllapsedTime: 41.1 seconds RetCode: 0 Status: OK PackageFile: ggmsa_1.10.0.zip PackageFileSize: 2.458 MiB