Package: ggmsa Version: 1.10.0 Command: chmod a+r ggmsa -R && F:\biocbuild\bbs-3.19-bioc\R\bin\R.exe CMD build --keep-empty-dirs --no-resave-data ggmsa StartedAt: 2024-06-26 19:12:17 -0400 (Wed, 26 Jun 2024) EndedAt: 2024-06-26 19:13:31 -0400 (Wed, 26 Jun 2024) EllapsedTime: 73.8 seconds RetCode: 0 Status: OK PackageFile: ggmsa_1.10.0.tar.gz PackageFileSize: 3.359 MiB