Package: ggmsa Version: 1.10.0 Command: rm -rf ggmsa.buildbin-libdir && mkdir ggmsa.buildbin-libdir && F:\biocbuild\bbs-3.19-bioc\R\bin\R.exe CMD INSTALL --build --library=ggmsa.buildbin-libdir ggmsa_1.10.0.tar.gz StartedAt: 2024-06-27 08:17:33 -0400 (Thu, 27 Jun 2024) EndedAt: 2024-06-27 08:18:06 -0400 (Thu, 27 Jun 2024) EllapsedTime: 33.4 seconds RetCode: 0 Status: OK PackageFile: ggmsa_1.10.0.zip PackageFileSize: 2.458 MiB