Package: ggmsa Version: 1.10.0 Command: rm -rf ggmsa.buildbin-libdir && mkdir ggmsa.buildbin-libdir && /Users/biocbuild/BBS/utils/build-universal.sh ggmsa_1.10.0.tar.gz /Library/Frameworks/R.framework/Resources/bin/R ggmsa.buildbin-libdir StartedAt: 2024-10-17 16:16:12 -0400 (Thu, 17 Oct 2024) EndedAt: 2024-10-17 16:16:58 -0400 (Thu, 17 Oct 2024) EllapsedTime: 45.8 seconds RetCode: 0 Status: OK PackageFile: ggmsa_1.10.0.tgz PackageFileSize: 2.811 MiB