Package: ggmsa Version: 1.10.0 Command: /Library/Frameworks/R.framework/Resources/bin/R CMD build --keep-empty-dirs --no-resave-data ggmsa StartedAt: 2024-06-09 16:47:58 -0400 (Sun, 09 Jun 2024) EndedAt: 2024-06-09 16:48:41 -0400 (Sun, 09 Jun 2024) EllapsedTime: 43.1 seconds RetCode: 0 Status: OK PackageFile: ggmsa_1.10.0.tar.gz PackageFileSize: 3.721 MiB