Package: ggmsa Version: 1.10.0 Command: /Library/Frameworks/R.framework/Resources/bin/R CMD INSTALL ggmsa StartedAt: 2024-06-09 16:29:44 -0400 (Sun, 09 Jun 2024) EndedAt: 2024-06-09 16:30:08 -0400 (Sun, 09 Jun 2024) EllapsedTime: 23.8 seconds RetCode: 0 Status: OK