Package: ggmsa Version: 1.10.0 Command: rm -rf ggmsa.buildbin-libdir && mkdir ggmsa.buildbin-libdir && /Users/biocbuild/BBS/utils/build-universal.sh ggmsa_1.10.0.tar.gz /Library/Frameworks/R.framework/Resources/bin/R ggmsa.buildbin-libdir StartedAt: 2024-10-18 18:44:07 -0400 (Fri, 18 Oct 2024) EndedAt: 2024-10-18 18:44:32 -0400 (Fri, 18 Oct 2024) EllapsedTime: 24.8 seconds RetCode: 0 Status: OK PackageFile: ggmsa_1.10.0.tgz PackageFileSize: 2.812 MiB