Package: ggmsa Version: 1.10.0 Maintainer: Lang Zhou MaintainerEmail: nyzhoulang at gmail.com git_url: https://git.bioconductor.org/packages/ggmsa git_branch: RELEASE_3_19 git_last_commit: 176217c git_last_commit_date: 2024-04-30 11:37:29 -0400 (Tue, 30 Apr 2024)