Package: ggkegg Version: 1.2.3 Command: E:\biocbuild\bbs-3.19-bioc\R\bin\R.exe CMD INSTALL ggkegg StartedAt: 2024-10-16 16:15:54 -0400 (Wed, 16 Oct 2024) EndedAt: 2024-10-16 16:16:45 -0400 (Wed, 16 Oct 2024) EllapsedTime: 51.0 seconds RetCode: 0 Status: OK