Package: ggkegg Version: 1.2.3 Command: E:\biocbuild\bbs-3.19-bioc\R\bin\R.exe CMD check --no-multiarch --install=check:ggkegg.install-out.txt --library=E:\biocbuild\bbs-3.19-bioc\R\library --no-vignettes --timings ggkegg_1.2.3.tar.gz StartedAt: 2024-10-17 01:55:47 -0400 (Thu, 17 Oct 2024) EndedAt: 2024-10-17 01:59:08 -0400 (Thu, 17 Oct 2024) EllapsedTime: 201.8 seconds RetCode: 0 Status: OK CheckDir: ggkegg.Rcheck Warnings: 0