Package: ggkegg Version: 1.2.3 Command: chmod a+r ggkegg -R && E:\biocbuild\bbs-3.19-bioc\R\bin\R.exe CMD build --keep-empty-dirs --no-resave-data ggkegg StartedAt: 2024-10-16 19:26:30 -0400 (Wed, 16 Oct 2024) EndedAt: 2024-10-16 19:27:41 -0400 (Wed, 16 Oct 2024) EllapsedTime: 70.6 seconds RetCode: 0 Status: OK PackageFile: ggkegg_1.2.3.tar.gz PackageFileSize: 2.627 MiB