Package: ggkegg Version: 1.2.3 Command: /home/biocbuild/bbs-3.19-bioc/R/bin/R CMD check --install=check:ggkegg.install-out.txt --library=/home/biocbuild/bbs-3.19-bioc/R/site-library --timings ggkegg_1.2.3.tar.gz StartedAt: 2024-10-17 00:54:42 -0400 (Thu, 17 Oct 2024) EndedAt: 2024-10-17 00:58:07 -0400 (Thu, 17 Oct 2024) EllapsedTime: 205.4 seconds RetCode: 0 Status: OK CheckDir: ggkegg.Rcheck Warnings: 0