Package: ggkegg Version: 1.2.3 Command: /Library/Frameworks/R.framework/Resources/bin/R CMD INSTALL ggkegg StartedAt: 2024-10-16 15:27:01 -0400 (Wed, 16 Oct 2024) EndedAt: 2024-10-16 15:27:51 -0400 (Wed, 16 Oct 2024) EllapsedTime: 49.5 seconds RetCode: 0 Status: OK