Package: ggkegg Version: 1.2.3 Command: /Library/Frameworks/R.framework/Resources/bin/R CMD build --keep-empty-dirs --no-resave-data ggkegg StartedAt: 2024-10-16 19:35:22 -0400 (Wed, 16 Oct 2024) EndedAt: 2024-10-16 19:37:15 -0400 (Wed, 16 Oct 2024) EllapsedTime: 112.8 seconds RetCode: 0 Status: OK PackageFile: ggkegg_1.2.3.tar.gz PackageFileSize: 3.456 MiB