Package: ggkegg Version: 1.2.3 Command: rm -rf ggkegg.buildbin-libdir && mkdir ggkegg.buildbin-libdir && /Users/biocbuild/BBS/utils/build-universal.sh ggkegg_1.2.3.tar.gz /Library/Frameworks/R.framework/Resources/bin/R ggkegg.buildbin-libdir StartedAt: 2024-10-17 16:16:08 -0400 (Thu, 17 Oct 2024) EndedAt: 2024-10-17 16:17:11 -0400 (Thu, 17 Oct 2024) EllapsedTime: 62.9 seconds RetCode: 0 Status: OK PackageFile: ggkegg_1.2.3.tgz PackageFileSize: 3.889 MiB