Package: ggkegg Version: 1.2.3 Command: rm -rf ggkegg.buildbin-libdir && mkdir ggkegg.buildbin-libdir && /Users/biocbuild/BBS/utils/build-universal.sh ggkegg_1.2.3.tar.gz /Library/Frameworks/R.framework/Resources/bin/R ggkegg.buildbin-libdir StartedAt: 2024-10-18 18:43:49 -0400 (Fri, 18 Oct 2024) EndedAt: 2024-10-18 18:44:23 -0400 (Fri, 18 Oct 2024) EllapsedTime: 34.2 seconds RetCode: 0 Status: OK PackageFile: ggkegg_1.2.3.tgz PackageFileSize: 3.89 MiB