Package: ggcyto Version: 1.32.0 Command: chmod a+r ggcyto -R && F:\biocbuild\bbs-3.19-bioc\R\bin\R.exe CMD build --keep-empty-dirs --no-resave-data ggcyto StartedAt: 2024-06-26 19:12:04 -0400 (Wed, 26 Jun 2024) EndedAt: 2024-06-26 19:14:35 -0400 (Wed, 26 Jun 2024) EllapsedTime: 150.6 seconds RetCode: 0 Status: OK PackageFile: ggcyto_1.32.0.tar.gz PackageFileSize: 18.89 MiB