Package: ggcyto Version: 1.32.0 Command: /home/biocbuild/bbs-3.19-bioc/R/bin/R CMD build --keep-empty-dirs --no-resave-data ggcyto StartedAt: 2024-10-16 18:43:00 -0400 (Wed, 16 Oct 2024) EndedAt: 2024-10-16 18:44:28 -0400 (Wed, 16 Oct 2024) EllapsedTime: 88.3 seconds RetCode: 0 Status: OK PackageFile: ggcyto_1.32.0.tar.gz PackageFileSize: 20.39 MiB