Package: ggcyto Version: 1.32.0 Command: rm -rf ggcyto.buildbin-libdir && mkdir ggcyto.buildbin-libdir && /Users/biocbuild/BBS/utils/build-universal.sh ggcyto_1.32.0.tar.gz /Library/Frameworks/R.framework/Resources/bin/R ggcyto.buildbin-libdir StartedAt: 2024-10-18 18:43:36 -0400 (Fri, 18 Oct 2024) EndedAt: 2024-10-18 18:44:07 -0400 (Fri, 18 Oct 2024) EllapsedTime: 31.0 seconds RetCode: 0 Status: OK PackageFile: ggcyto_1.32.0.tgz PackageFileSize: 5.819 MiB