Package: gg4way Version: 1.2.0 Command: E:\biocbuild\bbs-3.19-bioc\R\bin\R.exe CMD INSTALL gg4way StartedAt: 2024-10-16 16:21:24 -0400 (Wed, 16 Oct 2024) EndedAt: 2024-10-16 16:21:58 -0400 (Wed, 16 Oct 2024) EllapsedTime: 33.6 seconds RetCode: 0 Status: OK