Package: gg4way Version: 1.2.0 Command: chmod a+r gg4way -R && E:\biocbuild\bbs-3.19-bioc\R\bin\R.exe CMD build --keep-empty-dirs --no-resave-data gg4way StartedAt: 2024-10-16 19:26:19 -0400 (Wed, 16 Oct 2024) EndedAt: 2024-10-16 19:29:25 -0400 (Wed, 16 Oct 2024) EllapsedTime: 186.1 seconds RetCode: 0 Status: OK PackageFile: gg4way_1.2.0.tar.gz PackageFileSize: 2.704 MiB