Package: gg4way Version: 1.2.0 Command: rm -rf gg4way.buildbin-libdir && mkdir gg4way.buildbin-libdir && E:\biocbuild\bbs-3.19-bioc\R\bin\R.exe CMD INSTALL --build --library=gg4way.buildbin-libdir gg4way_1.2.0.tar.gz StartedAt: 2024-10-17 07:52:56 -0400 (Thu, 17 Oct 2024) EndedAt: 2024-10-17 07:53:25 -0400 (Thu, 17 Oct 2024) EllapsedTime: 29.3 seconds RetCode: 0 Status: OK PackageFile: gg4way_1.2.0.zip PackageFileSize: 2.745 MiB