Package: gg4way Version: 1.2.0 Command: F:\biocbuild\bbs-3.19-bioc\R\bin\R.exe CMD INSTALL gg4way StartedAt: 2024-06-26 16:00:56 -0400 (Wed, 26 Jun 2024) EndedAt: 2024-06-26 16:01:34 -0400 (Wed, 26 Jun 2024) EllapsedTime: 37.6 seconds RetCode: 0 Status: OK