Package: gg4way Version: 1.2.0 Command: chmod a+r gg4way -R && F:\biocbuild\bbs-3.19-bioc\R\bin\R.exe CMD build --keep-empty-dirs --no-resave-data gg4way StartedAt: 2024-06-26 19:11:32 -0400 (Wed, 26 Jun 2024) EndedAt: 2024-06-26 19:13:34 -0400 (Wed, 26 Jun 2024) EllapsedTime: 121.3 seconds RetCode: 0 Status: OK PackageFile: gg4way_1.2.0.tar.gz PackageFileSize: 2.705 MiB