Package: gg4way Version: 1.2.0 Command: rm -rf gg4way.buildbin-libdir && mkdir gg4way.buildbin-libdir && F:\biocbuild\bbs-3.19-bioc\R\bin\R.exe CMD INSTALL --build --library=gg4way.buildbin-libdir gg4way_1.2.0.tar.gz StartedAt: 2024-06-27 08:17:23 -0400 (Thu, 27 Jun 2024) EndedAt: 2024-06-27 08:18:10 -0400 (Thu, 27 Jun 2024) EllapsedTime: 47.4 seconds RetCode: 0 Status: OK PackageFile: gg4way_1.2.0.zip PackageFileSize: 2.745 MiB