Package: gg4way Version: 1.2.0 Command: /home/biocbuild/bbs-3.19-bioc/R/bin/R CMD build --keep-empty-dirs --no-resave-data gg4way StartedAt: 2024-10-16 18:42:48 -0400 (Wed, 16 Oct 2024) EndedAt: 2024-10-16 18:44:12 -0400 (Wed, 16 Oct 2024) EllapsedTime: 84.2 seconds RetCode: 0 Status: OK PackageFile: gg4way_1.2.0.tar.gz PackageFileSize: 3.325 MiB