Package: gg4way Version: 1.2.0 Command: /Library/Frameworks/R.framework/Resources/bin/R CMD check --install=check:gg4way.install-out.txt --library=/Library/Frameworks/R.framework/Resources/library --no-vignettes --timings gg4way_1.2.0.tar.gz StartedAt: 2024-06-09 20:39:28 -0400 (Sun, 09 Jun 2024) EndedAt: 2024-06-09 20:42:50 -0400 (Sun, 09 Jun 2024) EllapsedTime: 201.7 seconds RetCode: 0 Status: OK CheckDir: gg4way.Rcheck Warnings: 0