Package: gg4way Version: 1.2.0 Command: /Library/Frameworks/R.framework/Resources/bin/R CMD build --keep-empty-dirs --no-resave-data gg4way StartedAt: 2024-06-09 16:47:41 -0400 (Sun, 09 Jun 2024) EndedAt: 2024-06-09 16:49:14 -0400 (Sun, 09 Jun 2024) EllapsedTime: 93.3 seconds RetCode: 0 Status: OK PackageFile: gg4way_1.2.0.tar.gz PackageFileSize: 3.568 MiB