Package: gg4way Version: 1.2.0 Command: rm -rf gg4way.buildbin-libdir && mkdir gg4way.buildbin-libdir && /Users/biocbuild/BBS/utils/build-universal.sh gg4way_1.2.0.tar.gz /Library/Frameworks/R.framework/Resources/bin/R gg4way.buildbin-libdir StartedAt: 2024-06-10 00:20:15 -0400 (Mon, 10 Jun 2024) EndedAt: 2024-06-10 00:20:52 -0400 (Mon, 10 Jun 2024) EllapsedTime: 37.4 seconds RetCode: 0 Status: OK PackageFile: gg4way_1.2.0.tgz PackageFileSize: 3.607 MiB