Package: gg4way Version: 1.2.0 Command: /home/biocbuild/R/R-beta-2024-04-15_r86425/bin/R CMD INSTALL gg4way StartedAt: 2024-05-08 20:21:08 -0000 (Wed, 08 May 2024) EndedAt: 2024-05-08 20:21:45 -0000 (Wed, 08 May 2024) EllapsedTime: 37.7 seconds RetCode: 0 Status: OK