Package: gg4way Version: 1.2.0 Command: /home/biocbuild/R/R-beta-2024-04-15_r86425/bin/R CMD check --install=check:gg4way.install-out.txt --library=/home/biocbuild/R/R-beta-2024-04-15_r86425/site-library --no-vignettes --timings gg4way_1.2.0.tar.gz StartedAt: 2024-05-09 07:51:02 -0000 (Thu, 09 May 2024) EndedAt: 2024-05-09 07:55:54 -0000 (Thu, 09 May 2024) EllapsedTime: 291.5 seconds RetCode: 0 Status: OK CheckDir: gg4way.Rcheck Warnings: 0