Package: gg4way Version: 1.2.0 Command: /home/biocbuild/R/R-beta-2024-04-15_r86425/bin/R CMD build --keep-empty-dirs --no-resave-data gg4way StartedAt: 2024-05-09 00:35:14 -0000 (Thu, 09 May 2024) EndedAt: 2024-05-09 00:37:12 -0000 (Thu, 09 May 2024) EllapsedTime: 118.2 seconds RetCode: 0 Status: OK PackageFile: gg4way_1.2.0.tar.gz PackageFileSize: 2.722 MiB