Package: gg4way Version: 1.2.0 Command: /Library/Frameworks/R.framework/Resources/bin/R CMD build --keep-empty-dirs --no-resave-data gg4way StartedAt: 2024-06-09 22:10:17 -0400 (Sun, 09 Jun 2024) EndedAt: 2024-06-09 22:12:08 -0400 (Sun, 09 Jun 2024) EllapsedTime: 111.0 seconds RetCode: 0 Status: OK PackageFile: gg4way_1.2.0.tar.gz PackageFileSize: 3.617 MiB