Package: geva Version: 1.12.0 Command: E:\biocbuild\bbs-3.19-bioc\R\bin\R.exe CMD INSTALL geva StartedAt: 2024-10-16 16:02:47 -0400 (Wed, 16 Oct 2024) EndedAt: 2024-10-16 16:03:28 -0400 (Wed, 16 Oct 2024) EllapsedTime: 40.6 seconds RetCode: 0 Status: OK