Package: geva Version: 1.12.0 Command: rm -rf geva.buildbin-libdir && mkdir geva.buildbin-libdir && E:\biocbuild\bbs-3.19-bioc\R\bin\R.exe CMD INSTALL --build --library=geva.buildbin-libdir geva_1.12.0.tar.gz StartedAt: 2024-10-17 07:52:47 -0400 (Thu, 17 Oct 2024) EndedAt: 2024-10-17 07:53:38 -0400 (Thu, 17 Oct 2024) EllapsedTime: 50.6 seconds RetCode: 0 Status: OK PackageFile: geva_1.12.0.zip PackageFileSize: 1.456 MiB