Package: geva Version: 1.12.0 Command: rm -rf geva.buildbin-libdir && mkdir geva.buildbin-libdir && F:\biocbuild\bbs-3.19-bioc\R\bin\R.exe CMD INSTALL --build --library=geva.buildbin-libdir geva_1.12.0.tar.gz StartedAt: 2024-06-27 08:17:19 -0400 (Thu, 27 Jun 2024) EndedAt: 2024-06-27 08:17:45 -0400 (Thu, 27 Jun 2024) EllapsedTime: 25.6 seconds RetCode: 0 Status: OK PackageFile: geva_1.12.0.zip PackageFileSize: 1.456 MiB