Package: geva Version: 1.12.0 Command: /home/biocbuild/bbs-3.19-bioc/R/bin/R CMD build --keep-empty-dirs --no-resave-data geva StartedAt: 2024-10-16 18:42:34 -0400 (Wed, 16 Oct 2024) EndedAt: 2024-10-16 18:44:12 -0400 (Wed, 16 Oct 2024) EllapsedTime: 98.3 seconds RetCode: 0 Status: OK PackageFile: geva_1.12.0.tar.gz PackageFileSize: 2.197 MiB