Package: geva Version: 1.12.0 Command: /Library/Frameworks/R.framework/Resources/bin/R CMD check --install=check:geva.install-out.txt --library=/Library/Frameworks/R.framework/Resources/library --no-vignettes --timings geva_1.12.0.tar.gz StartedAt: 2024-10-17 06:01:39 -0400 (Thu, 17 Oct 2024) EndedAt: 2024-10-17 06:10:40 -0400 (Thu, 17 Oct 2024) EllapsedTime: 541.6 seconds RetCode: 0 Status: OK CheckDir: geva.Rcheck Warnings: 0