Package: geva Version: 1.12.0 Command: /Library/Frameworks/R.framework/Resources/bin/R CMD build --keep-empty-dirs --no-resave-data geva StartedAt: 2024-10-16 19:34:35 -0400 (Wed, 16 Oct 2024) EndedAt: 2024-10-16 19:40:06 -0400 (Wed, 16 Oct 2024) EllapsedTime: 331.0 seconds RetCode: 0 Status: OK PackageFile: geva_1.12.0.tar.gz PackageFileSize: 2.216 MiB