Package: geva Version: 1.12.0 Command: /Library/Frameworks/R.framework/Resources/bin/R CMD build --keep-empty-dirs --no-resave-data geva StartedAt: 2024-06-09 16:47:39 -0400 (Sun, 09 Jun 2024) EndedAt: 2024-06-09 16:49:36 -0400 (Sun, 09 Jun 2024) EllapsedTime: 117.0 seconds RetCode: 0 Status: OK PackageFile: geva_1.12.0.tar.gz PackageFileSize: 2.217 MiB