Package: geva Version: 1.12.0 Command: /home/biocbuild/R/R-beta-2024-04-15_r86425/bin/R CMD build --keep-empty-dirs --no-resave-data geva StartedAt: 2024-05-09 00:34:41 -0000 (Thu, 09 May 2024) EndedAt: 2024-05-09 00:37:06 -0000 (Thu, 09 May 2024) EllapsedTime: 145.2 seconds RetCode: 1 Status: ERROR PackageFile: None PackageFileSize: NA