Package: geva Version: 1.12.0 Maintainer: Itamar José Guimarães Nunes MaintainerEmail: nunesijg at gmail.com git_url: https://git.bioconductor.org/packages/geva git_branch: RELEASE_3_19 git_last_commit: 1a177f9 git_last_commit_date: 2024-04-30 11:32:11 -0400 (Tue, 30 Apr 2024)