Package: getDEE2 Version: 1.14.0 Command: chmod a+r getDEE2 -R && E:\biocbuild\bbs-3.19-bioc\R\bin\R.exe CMD build --keep-empty-dirs --no-resave-data getDEE2 StartedAt: 2024-10-16 19:25:55 -0400 (Wed, 16 Oct 2024) EndedAt: 2024-10-16 19:27:13 -0400 (Wed, 16 Oct 2024) EllapsedTime: 77.6 seconds RetCode: 0 Status: OK PackageFile: getDEE2_1.14.0.tar.gz PackageFileSize: 21.73 KiB